BEGIN:VCALENDAR
VERSION:2.0
PRODID:icalendar-ruby
CALSCALE:GREGORIAN
METHOD:PUBLISH
BEGIN:VEVENT
DTSTAMP:20260420T150746Z
UID:169-903625@engagedbygrace.org
DTSTART:20260507T213000Z
DTEND:20260507T221500Z
CLASS:PUBLIC
CREATED:20260325T153504
DESCRIPTION:A simple meal served by a rotation of families prior to choir r
 ehearsals on Thursday evenings.
LAST-MODIFIED:20260325T153504
LOCATION:
SUMMARY:Thursday Supper at Church
URL;VALUE=URI:https://engagedbygrace.org/events/thursday-supper-at-church/2
 026-05-07
ATTACH;FILENAME=Supper-meal.jpeg;FMTTYPE=image/jpeg:https://dq5pwpg1q8ru0.c
 loudfront.net/2026/01/15/16/28/04/08f96cb7-838d-43cb-99e8-d89a5cfb6efb/Sup
 per-meal.jpeg
END:VEVENT
END:VCALENDAR
