BEGIN:VCALENDAR
VERSION:2.0
PRODID:icalendar-ruby
CALSCALE:GREGORIAN
METHOD:PUBLISH
BEGIN:VEVENT
DTSTAMP:20260420T131045Z
UID:33-1013428@engagedbygrace.org
DTSTART:20261019T223000Z
DTEND:20261020T003000Z
CLASS:PUBLIC
CREATED:20260420T081442
DESCRIPTION:
LAST-MODIFIED:20260420T081442
LOCATION:
SUMMARY:Scout Troop 555
URL;VALUE=URI:https://engagedbygrace.org/events/scout-troop-555/2026-10-19
ATTACH;FILENAME=community-events1.png;FMTTYPE=image/png:https://dq5pwpg1q8r
 u0.cloudfront.net/2025/04/07/15/24/59/6e8c065c-f99f-4dad-a3c3-02c96de27bc2
 /community-events1.png
END:VEVENT
END:VCALENDAR
