BEGIN:VCALENDAR
VERSION:2.0
PRODID:icalendar-ruby
CALSCALE:GREGORIAN
METHOD:PUBLISH
BEGIN:VEVENT
DTSTAMP:20260420T102609Z
UID:33-1012699@engagedbygrace.org
DTSTART:20261005T223000Z
DTEND:20261006T003000Z
CLASS:PUBLIC
CREATED:20260420T033513
DESCRIPTION:
LAST-MODIFIED:20260420T033513
LOCATION:
SUMMARY:Scout Troop 555
URL;VALUE=URI:https://engagedbygrace.org/events/scout-troop-555/2026-10-05
ATTACH;FILENAME=community-events1.png;FMTTYPE=image/png:https://dq5pwpg1q8r
 u0.cloudfront.net/2025/04/07/15/24/59/6e8c065c-f99f-4dad-a3c3-02c96de27bc2
 /community-events1.png
END:VEVENT
END:VCALENDAR
