BEGIN:VCALENDAR
VERSION:2.0
PRODID:icalendar-ruby
CALSCALE:GREGORIAN
METHOD:PUBLISH
BEGIN:VEVENT
DTSTAMP:20260422T134941Z
UID:7-1021581@engagedbygrace.org
DTSTART:20261018T123000Z
DTEND:20261018T131500Z
CLASS:PUBLIC
CREATED:20260422T083129
DESCRIPTION:Morning Prayer Service with Scripture Readings and Holy Communi
 on
LAST-MODIFIED:20260422T083129
LOCATION:
SUMMARY:Morning Prayer
URL;VALUE=URI:https://engagedbygrace.org/events/morning-prayer/2026-10-18
ATTACH;FILENAME=Easter-flowers.jpg;FMTTYPE=image/jpeg:https://dq5pwpg1q8ru0
 .cloudfront.net/2025/04/23/18/54/12/0bd66502-c90b-4667-a0a7-d7e080fe7fba/E
 aster-flowers.jpg
END:VEVENT
END:VCALENDAR
