BEGIN:VCALENDAR
VERSION:2.0
PRODID:icalendar-ruby
CALSCALE:GREGORIAN
METHOD:PUBLISH
BEGIN:VEVENT
DTSTAMP:20260419T235759Z
UID:202-927479@engagedbygrace.org
DTSTART:20260503T151500Z
DTEND:20260503T160000Z
CLASS:PUBLIC
CREATED:20260331T110145
DESCRIPTION:Pastoral Succession Plan
LAST-MODIFIED:20260331T110145
LOCATION:Conference Room
SUMMARY:Listening Session
URL;VALUE=URI:https://engagedbygrace.org/events/listening-session/2026-05-0
 3
ATTACH;FILENAME=Informational-meeting.jpeg;FMTTYPE=image/jpeg:https://dq5pw
 pg1q8ru0.cloudfront.net/2026/03/12/16/40/41/909fdf33-afbf-4fdd-9600-33cd6b
 3e9f92/Informational-meeting.jpeg
END:VEVENT
END:VCALENDAR
