BEGIN:VCALENDAR
VERSION:2.0
PRODID:icalendar-ruby
CALSCALE:GREGORIAN
METHOD:PUBLISH
BEGIN:VEVENT
DTSTAMP:20260420T212726Z
UID:118-1014194@engagedbygrace.org
DTSTART:20260517T163000Z
DTEND:20260517T180000Z
CLASS:PUBLIC
CREATED:20260420T131728
DESCRIPTION:Middle School &amp\; High School youth are ionvited to join the
 ir peers from Advent Lutheran Church for lunch and kickball.  Hope you ca
 n make it!
LAST-MODIFIED:20260420T131728
LOCATION:
SUMMARY:HS/MS Youth Groups
URL;VALUE=URI:https://engagedbygrace.org/events/hs-ms-youth-groups/2026-05-
 17
ATTACH;FILENAME=Youth-Group.png;FMTTYPE=image/png:https://dq5pwpg1q8ru0.clo
 udfront.net/2025/09/03/17/32/16/97e60a52-8756-4e19-b301-49da97410447/Youth
 -Group.png
END:VEVENT
END:VCALENDAR
