BEGIN:VCALENDAR
VERSION:2.0
PRODID:icalendar-ruby
CALSCALE:GREGORIAN
METHOD:PUBLISH
BEGIN:VEVENT
DTSTAMP:20260421T222954Z
UID:213-1019304@engagedbygrace.org
DTSTART:20260421T233000Z
DTEND:20260422T003000Z
CLASS:PUBLIC
CREATED:20260421T144820
DESCRIPTION:
LAST-MODIFIED:20260421T144820
LOCATION:
SUMMARY:Habitat Steering Committee
URL;VALUE=URI:https://engagedbygrace.org/events/habitat-steering-committee/
 2026-04-21
ATTACH;FILENAME=Habitat-logo.jpg;FMTTYPE=image/jpeg:https://dq5pwpg1q8ru0.c
 loudfront.net/2026/04/21/18/48/19/644c1e37-d36d-4835-bb74-5fe42ce51321/Hab
 itat-logo.jpg
END:VEVENT
END:VCALENDAR
