BEGIN:VCALENDAR
VERSION:2.0
PRODID:icalendar-ruby
CALSCALE:GREGORIAN
METHOD:PUBLISH
BEGIN:VEVENT
DTSTAMP:20260419T124414Z
UID:124-983047@engagedbygrace.org
DTSTART:20260508T190000Z
DTEND:20260508T200000Z
CLASS:PUBLIC
CREATED:20260413T093558
DESCRIPTION:
LAST-MODIFIED:20260413T093558
LOCATION:
SUMMARY:Girl Scout Troop 6184
URL;VALUE=URI:https://engagedbygrace.org/events/girl-scout-troop-6184/2026-
 05-08
ATTACH;FILENAME=community-events1.png;FMTTYPE=image/png:https://dq5pwpg1q8r
 u0.cloudfront.net/2025/09/08/17/27/53/9d8f9566-dbed-4936-baec-95a3f8809e22
 /community-events1.png
END:VEVENT
END:VCALENDAR
