BEGIN:VCALENDAR
VERSION:2.0
PRODID:icalendar-ruby
CALSCALE:GREGORIAN
METHOD:PUBLISH
BEGIN:VEVENT
DTSTAMP:20260420T212719Z
UID:205-878032@engagedbygrace.org
DTSTART:20260511T183000Z
DTEND:20260511T210000Z
CLASS:PUBLIC
CREATED:20260319T122832
DESCRIPTION:Joint Undergratuate Euphonium Recital in Sanctuary
LAST-MODIFIED:20260319T122832
LOCATION:
SUMMARY:Euphonium Recital
URL;VALUE=URI:https://engagedbygrace.org/events/euphonium-recital/2026-05-1
 1
ATTACH;FILENAME=Private-Event-1.jpeg;FMTTYPE=image/jpeg:https://dq5pwpg1q8r
 u0.cloudfront.net/2026/03/19/16/28/32/608ab9ce-b295-4a13-a2e0-4ae936f4f4cc
 /Private-Event-1.jpeg
END:VEVENT
END:VCALENDAR
