BEGIN:VCALENDAR
VERSION:2.0
PRODID:icalendar-ruby
CALSCALE:GREGORIAN
METHOD:PUBLISH
BEGIN:VEVENT
DTSTAMP:20260422T182037Z
UID:117-1014167@engagedbygrace.org
DTSTART:20260503T230000Z
DTEND:20260504T000000Z
CLASS:PUBLIC
CREATED:20260420T131430
DESCRIPTION:
LAST-MODIFIED:20260420T131430
LOCATION:
SUMMARY:Confirmation
URL;VALUE=URI:https://engagedbygrace.org/events/confirmation--117/2026-05-0
 3
ATTACH;FILENAME=Confirmation-class.jpeg;FMTTYPE=image/jpeg:https://dq5pwpg1
 q8ru0.cloudfront.net/2025/10/08/17/20/41/a7c7f09d-821d-4389-bb04-580d54387
 5db/Confirmation-class.jpeg
END:VEVENT
END:VCALENDAR
