BEGIN:VCALENDAR
VERSION:2.0
PRODID:icalendar-ruby
CALSCALE:GREGORIAN
METHOD:PUBLISH
BEGIN:VEVENT
DTSTAMP:20260421T002719Z
UID:189-792024@engagedbygrace.org
DTSTART:20260517T200000Z
DTEND:20260517T210000Z
CLASS:PUBLIC
CREATED:20260226T131636
DESCRIPTION:An afternoon of Baroque brilliance awaits as violinist Fred Rip
 ley and organist Joshua Brodbeck bring to life timeless masterpieces.
LAST-MODIFIED:20260226T131636
LOCATION:
SUMMARY:Concert at Holy Trinity
URL;VALUE=URI:https://engagedbygrace.org/events/concert-at-holy-trinity--18
 9/2026-05-17
ATTACH;FILENAME=organ-violin.jpeg;FMTTYPE=image/jpeg:https://dq5pwpg1q8ru0.
 cloudfront.net/2026/02/26/18/14/40/d283ccb2-452f-4703-aa3a-9deca7de1942/or
 gan-violin.jpeg
END:VEVENT
END:VCALENDAR
