BEGIN:VCALENDAR
VERSION:2.0
PRODID:icalendar-ruby
CALSCALE:GREGORIAN
METHOD:PUBLISH
BEGIN:VEVENT
DTSTAMP:20260422T085231Z
UID:24-1021091@engagedbygrace.org
DTSTART:20261013T123000Z
DTEND:20261013T163000Z
CLASS:PUBLIC
CREATED:20260421T212416
DESCRIPTION:Holy Trinity's church office is open Monday-Friday 8:30am - 12:
 30pm  \n614-486-9433\nemail@engagedbygrace.org
LAST-MODIFIED:20260421T212416
LOCATION:
SUMMARY:Church Office Hours
URL;VALUE=URI:https://engagedbygrace.org/events/church-office-hours--24/202
 6-10-13
ATTACH;FILENAME=Holy-Trinity-front-lawn-with-sign.jpg;FMTTYPE=image/jpeg:ht
 tps://dq5pwpg1q8ru0.cloudfront.net/2025/04/16/16/44/49/88d9b0b1-8c2c-4758-
 9db4-715635673770/Holy-Trinity-front-lawn-with-sign.jpg
END:VEVENT
END:VCALENDAR
